BEGIN:VCALENDAR
VERSION:2.0
PRODID:-//PMK Kleve - ECPv4.7.1//NONSGML v1.0//EN
CALSCALE:GREGORIAN
METHOD:PUBLISH
X-WR-CALNAME:PMK Kleve
X-ORIGINAL-URL:https://pmk-kleve.de
X-WR-CALDESC:Veranstaltungen für PMK Kleve
BEGIN:VEVENT
DTSTART;VALUE=DATE:20220910
DTEND;VALUE=DATE:20220911
DTSTAMP:20260424T005847
CREATED:20220910T231810Z
LAST-MODIFIED:20220910T231810Z
UID:4327-1662768000-1662854399@pmk-kleve.de
SUMMARY:Katecheza dla młodzieży po bierzmowaniu
DESCRIPTION:W godz. 16.00 – 18.00 odbędzie się pierwsze spotkanie młodzieży z całej parafii (grupa starsza po bierzmowaniu) w salce przy biurze parafialnym w Kleve\, Kavarinerstr. 10. \n
URL:https://pmk-kleve.de/event/katecheza-dla-mlodziezy-po-bierzmowaniu
CATEGORIES:Wydarzenia na strone główną
END:VEVENT
END:VCALENDAR