BEGIN:VCALENDAR
VERSION:2.0
PRODID:-//PMK Kleve - ECPv4.7.1//NONSGML v1.0//EN
CALSCALE:GREGORIAN
METHOD:PUBLISH
X-WR-CALNAME:PMK Kleve
X-ORIGINAL-URL:https://pmk-kleve.de
X-WR-CALDESC:Veranstaltungen für PMK Kleve
BEGIN:VEVENT
DTSTART;TZID=UTC+0:20221112T160000
DTEND;TZID=UTC+0:20221112T173000
DTSTAMP:20260423T135951
CREATED:20221114T164316Z
LAST-MODIFIED:20221114T164317Z
UID:4588-1668268800-1668274200@pmk-kleve.de
SUMMARY:Katecheza dla młodzieży
DESCRIPTION:W sobotę 12 listopada o godz. 16.00 w salce przy biurze parafialnym odbędzie się spotkanie dla młodzieży z całej parafii. Adres: Kavarinerstr. 10 w Kleve. \n
URL:https://pmk-kleve.de/event/katecheza-dla-mlodziezy
CATEGORIES:Wydarzenia na strone główną
END:VEVENT
END:VCALENDAR