BEGIN:VCALENDAR
VERSION:2.0
PRODID:-//PMK Kleve - ECPv4.7.1//NONSGML v1.0//EN
CALSCALE:GREGORIAN
METHOD:PUBLISH
X-WR-CALNAME:PMK Kleve
X-ORIGINAL-URL:https://pmk-kleve.de
X-WR-CALDESC:Veranstaltungen für PMK Kleve
BEGIN:VEVENT
DTSTART;TZID=UTC+0:20240309T183000
DTEND;TZID=UTC+0:20240309T200000
DTSTAMP:20260419T140424
CREATED:20240223T130559Z
LAST-MODIFIED:20240223T130559Z
UID:6355-1710009000-1710014400@pmk-kleve.de
SUMMARY:Katecheza przygotowująca dorosłych do przyjęcia Sakramentu Bierzmowania
DESCRIPTION:I SPOTKANIE:  \n\n9 marzec 2024\, godz. 18.30\, salka w pomieszczeniach PMK Kleve (Kavarinerstr. 10\, 47533 Kleve)\n\n
URL:https://pmk-kleve.de/event/katecheza-przygotowujaca-doroslych-do-przyjecia-sakramentu-bierzmowania
CATEGORIES:Wydarzenia na strone główną
END:VEVENT
END:VCALENDAR