BEGIN:VCALENDAR
VERSION:2.0
PRODID:-//PMK Kleve - ECPv4.7.1//NONSGML v1.0//EN
CALSCALE:GREGORIAN
METHOD:PUBLISH
X-WR-CALNAME:PMK Kleve
X-ORIGINAL-URL:https://pmk-kleve.de
X-WR-CALDESC:Veranstaltungen für PMK Kleve
BEGIN:VEVENT
DTSTART;VALUE=DATE:20220222
DTEND;VALUE=DATE:20220223
DTSTAMP:20260425T151335
CREATED:20220218T105429Z
LAST-MODIFIED:20220218T105430Z
UID:3739-1645488000-1645574399@pmk-kleve.de
SUMMARY:Katedry Świętego Piotra Apostoła\, święto
DESCRIPTION:W święto Katedry Świętego Piotra wyrażamy w całym Kościele naszą wdzięczność wobec Boga za misję\, którą powierzył Piotrowi i jego następcom na Stolicy Piotrowej. Już ojcowie Kościoła utożsamiali słowo „katedra” z symbolem władzy biskupiej\, szczególnie rzymskiej stolicy św. Piotra\, jako władzy nauczania i kierowania. Katedrę rozumiemy także jako znak miłości Boga\, który jest najlepszym Ojcem i dobrym Pasterzem i który pragnie gromadzić cały Kościół oraz prowadzić wspólnotę wierzących po drogach zbawienia w jedności z namiestnikami Chrystusa tutaj na ziemi. \nDzisiejsze święto kieruje naszą uwagę na osobę apostoła Piotra\, któremu Jezus Chrystusa kazał paść całą swoją owczarnię. To sam Piotr pierwszy wyznał najbardziej fundamentalną prawdę w słowach: Ty jesteś Mesjasz\, Syn Boga żywego. Tę prawdę do dzisiaj wyznaje Kościół i tą prawdą żyje. Nawet jeśli nam czasami brakuje odwagi i wierności\, to Piotr i Kościół wyznają wiarę w Jezusa Chrystusa w naszym imieniu. \nWpatrując się w św. Piotra\, który odegrał niezwykłą rolę w formowaniu się Kościoła\, możemy w jego osobie dostrzec odbicie wszystkich chrześcijan\, a więc zarówno wierzących jak i wątpiących\, silnych i słabych\, miłujących i zdradzających. Jezus słabego człowieka\, jakim był niewątpliwie Piotr\, nazywa Skałą. Apostoł stał się opoką nie w oparciu o swoje cechy charakteru czy swoje zdolności\, ale poprzez oparcie w samym Bogu. Piotr w swoim pójściu za Jezusem odkrywa z czasem\, że jego nowe imię dzięki łasce Bożej stanie się powołaniem\, co potwierdzi ostatecznie świadectwem swojej wiary i miłości do Jezusa\, a co przedłuża się dzisiaj w posłudze jego następców. \nŚwięto Katedry Świętego Piotra przypomina nam\, że to Bóg jest gwarantem istnienia Kościoła. Piotr jest słaby i przekonuje się\, że został wybrany pomimo słabości\, aby okazało się\, że Kościół to dzieło Boże i że żadne siły go nie przemogą\, i że to do Boga należy ostatnie słowo\, które jest ponad ludzką słabością i grzechem. \nPapież Benedykt XVI powiedział kiedyś\, że budować na skale oznacza budować na kimś\, kto jest odrzucony. Święty Piotr mówi o Jezusie jako o żywym kamieniu\, odrzuconym przez ludzi\, ale drogocennym i wybranym przez Boga. To odrzucenie Jezusa przez ludzi powtarza się w historii ludzkości i jest obecne także współcześnie. Warto się nie zniechęcać – nawołuje papież – jeśli w budowaniu naszego życia napotykamy tych\, którzy pogardzają fundamentem\, na którym budujemy. Wiara musi przejść próby i musi ciągle wzrastać. Jedna jest skała\, na której warto oprzeć wszystko – zachęca nas ojciec święty. \nPamiętajmy w tym dniu\, o następcy św. Piotra\, papieżu Franciszku\, w naszej modlitwie\, wypraszając mu Bożą pomoc i opiekę w trudzie pasterskiej posługi w Kościele. \nŹródło: Katedry świętego Piotra Apostoła – święto – Homilie Rok C 2021/22 – www.slowo.redemptor.pl  \n
URL:https://pmk-kleve.de/event/katedry-swietego-piotra-apostola-swieto
END:VEVENT
END:VCALENDAR