BEGIN:VCALENDAR
VERSION:2.0
PRODID:-//PMK Kleve - ECPv4.7.1//NONSGML v1.0//EN
CALSCALE:GREGORIAN
METHOD:PUBLISH
X-WR-CALNAME:PMK Kleve
X-ORIGINAL-URL:https://pmk-kleve.de
X-WR-CALDESC:Veranstaltungen für PMK Kleve
BEGIN:VEVENT
DTSTART;VALUE=DATE:20240131
DTEND;VALUE=DATE:20240203
DTSTAMP:20260419T120206
CREATED:20231201T093726Z
LAST-MODIFIED:20240129T215046Z
UID:6058-1706659200-1706918399@pmk-kleve.de
SUMMARY:Konkurs biblijny
DESCRIPTION:Rektor Polskiej Misji Katolickiej w Niemczech organizuje w styczniu coroczny pisemny konkurs biblijny dla młodzieży od 13 do 25 roku życia. Zakres konkursu w 2024 roku obejmował będzie znajomość Dziejów Apostolskich. \n
URL:https://pmk-kleve.de/event/konkurs-biblijny-4
CATEGORIES:Wydarzenia na strone główną
END:VEVENT
END:VCALENDAR