BEGIN:VCALENDAR
VERSION:2.0
PRODID:-//PMK Kleve - ECPv4.7.1//NONSGML v1.0//EN
CALSCALE:GREGORIAN
METHOD:PUBLISH
X-WR-CALNAME:PMK Kleve
X-ORIGINAL-URL:https://pmk-kleve.de
X-WR-CALDESC:Veranstaltungen für PMK Kleve
BEGIN:VEVENT
DTSTART;VALUE=DATE:20240607
DTEND;VALUE=DATE:20240610
DTSTAMP:20260420T021808
CREATED:20240419T100041Z
LAST-MODIFIED:20240419T100157Z
UID:6521-1717718400-1717977599@pmk-kleve.de
SUMMARY:Kurs przedmałżeński
DESCRIPTION:W dniach 07-09 czerwca 2024 zostanie przeprowadzony kurs przygotowania do Sakramentu Małżeństwa online za pomocą aplikacji Zoom. Organizator: Poradnia FAMILIARIS. \nWięcej informacji oraz zapisy na stronie internetowej: https://www.familiaris.org/kurs-przedmalzenski-online \n
URL:https://pmk-kleve.de/event/kurs-przedmalzenski-11
CATEGORIES:Wydarzenia na strone główną
END:VEVENT
END:VCALENDAR