BEGIN:VCALENDAR
VERSION:2.0
PRODID:-//PMK Kleve - ECPv4.7.1//NONSGML v1.0//EN
CALSCALE:GREGORIAN
METHOD:PUBLISH
X-WR-CALNAME:PMK Kleve
X-ORIGINAL-URL:https://pmk-kleve.de
X-WR-CALDESC:Veranstaltungen für PMK Kleve
BEGIN:VEVENT
DTSTART;VALUE=DATE:20240906
DTEND;VALUE=DATE:20240909
DTSTAMP:20260420T095902
CREATED:20240628T103229Z
LAST-MODIFIED:20240906T140207Z
UID:6689-1725580800-1725839999@pmk-kleve.de
SUMMARY:Kurs przedmałżeński
DESCRIPTION:W dniach 06-08 września 2024 zostanie przeprowadzony kurs przygotowania do Sakramentu Małżeństwa online za pomocą aplikacji Zoom.  \nOrganizator: Poradnia FAMILIARIS współpracujaca z Polskimi Misjami Katolickimi i Biskupami. Jest to trzydniowy trening przedmałżeńsk\, przeznaczony dla osób przebywających na emigracji. \nPrzygotowanie do małżeństwa jest bardzo ważne i zalecane\, ponieważ pozwala narzeczonym lepiej poznać siebie nawzajem i przygotować się do wspólnego życia. \nWięcej informacji oraz zapisy na stronie internetowej: https://www.familiaris.org/kurs-przedmalzenski-online \n
URL:https://pmk-kleve.de/event/kurs-przedmalzenski-12
CATEGORIES:Wydarzenia na strone główną
END:VEVENT
END:VCALENDAR