BEGIN:VCALENDAR
VERSION:2.0
PRODID:-//PMK Kleve - ECPv4.7.1//NONSGML v1.0//EN
CALSCALE:GREGORIAN
METHOD:PUBLISH
X-WR-CALNAME:PMK Kleve
X-ORIGINAL-URL:https://pmk-kleve.de
X-WR-CALDESC:Veranstaltungen für PMK Kleve
BEGIN:VEVENT
DTSTART;VALUE=DATE:20241213
DTEND;VALUE=DATE:20241216
DTSTAMP:20260422T165902
CREATED:20241011T103534Z
LAST-MODIFIED:20241011T104334Z
UID:6894-1734048000-1734307199@pmk-kleve.de
SUMMARY:Kurs przedmałżeński
DESCRIPTION:Poradnia FAMILIARIS oferuje trzydniowy trening przedmałżeński online w aplikacji Zoom online. Najbliższy termin: 13-15. grudnia 2024. \nKurs przeznaczony dla osób przebywających na emigracji. \nPrzygotowanie do małżeństwa jest bardzo ważne i zalecane\, ponieważ pozwala narzeczonym lepiej poznać siebie nawzajem i przygotować się do wspólnego życia. \nInformacje i zapisy na stronie internetowej: https://www.familiaris.org/kurs-przedmalzenski-online \n
URL:https://pmk-kleve.de/event/kurs-przedmalzenski-13
CATEGORIES:Wydarzenia na strone główną
END:VEVENT
END:VCALENDAR