BEGIN:VCALENDAR
VERSION:2.0
PRODID:-//PMK Kleve - ECPv4.7.1//NONSGML v1.0//EN
CALSCALE:GREGORIAN
METHOD:PUBLISH
X-WR-CALNAME:PMK Kleve
X-ORIGINAL-URL:https://pmk-kleve.de
X-WR-CALDESC:Veranstaltungen für PMK Kleve
BEGIN:VEVENT
DTSTART;VALUE=DATE:20230609
DTEND;VALUE=DATE:20230612
DTSTAMP:20260422T165840
CREATED:20230405T145459Z
LAST-MODIFIED:20230405T145500Z
UID:5356-1686268800-1686527999@pmk-kleve.de
SUMMARY:Kurs przedmałżeński
DESCRIPTION: \n
URL:https://pmk-kleve.de/event/kurs-przedmalzenski-7
CATEGORIES:Wydarzenia na strone główną
END:VEVENT
END:VCALENDAR