BEGIN:VCALENDAR
VERSION:2.0
PRODID:-//PMK Kleve - ECPv4.7.1//NONSGML v1.0//EN
CALSCALE:GREGORIAN
METHOD:PUBLISH
X-WR-CALNAME:PMK Kleve
X-ORIGINAL-URL:https://pmk-kleve.de
X-WR-CALDESC:Veranstaltungen für PMK Kleve
BEGIN:VEVENT
DTSTART;VALUE=DATE:20241123
DTEND;VALUE=DATE:20241124
DTSTAMP:20260422T153951
CREATED:20241031T092917Z
LAST-MODIFIED:20241031T115123Z
UID:6936-1732320000-1732406399@pmk-kleve.de
SUMMARY:Kwartalny dzień skupienia kobiet
DESCRIPTION: \n
URL:https://pmk-kleve.de/event/kwartalny-dzien-skupienia-kobiet
CATEGORIES:Wydarzenia na strone główną
END:VEVENT
END:VCALENDAR