BEGIN:VCALENDAR
VERSION:2.0
PRODID:-//PMK Kleve - ECPv4.7.1//NONSGML v1.0//EN
CALSCALE:GREGORIAN
METHOD:PUBLISH
X-WR-CALNAME:PMK Kleve
X-ORIGINAL-URL:https://pmk-kleve.de
X-WR-CALDESC:Veranstaltungen für PMK Kleve
BEGIN:VEVENT
DTSTART;TZID=UTC+0:20190420T210000
DTEND;TZID=UTC+0:20190420T220000
DTSTAMP:20260425T193636
CREATED:20190416T085157Z
LAST-MODIFIED:20190416T085157Z
UID:709-1555794000-1555797600@pmk-kleve.de
SUMMARY:Liturgia Wigilii Paschalnej
DESCRIPTION:Zgodnie z najdawniejszym zwyczajem liturgię Wigilii Paschalnej rozpoczniemy po zmroku o godz. 21.00 w Liebfrauenkirche w Emmerich. \nPo obrzędach poświęcenia ognia\, wysłuchaniu orędzia paschalnego i bogatej liturgii słowa odnowimy przyrzeczenia chrzcielne. \nPrzed liturgią będzie można nabyć paschaliki. Na zakończenie uroczystości odbędzie się procesja rezurekcyjna. \n
URL:https://pmk-kleve.de/event/liturgia-wigilii-paschalnej
ATTACH;FMTTYPE=image/jpeg:https://pmk-kleve.de/wp-content/uploads/2019/04/post08-.jpg
END:VEVENT
END:VCALENDAR