BEGIN:VCALENDAR
VERSION:2.0
PRODID:-//PMK Kleve - ECPv4.7.1//NONSGML v1.0//EN
CALSCALE:GREGORIAN
METHOD:PUBLISH
X-WR-CALNAME:PMK Kleve
X-ORIGINAL-URL:https://pmk-kleve.de
X-WR-CALDESC:Veranstaltungen für PMK Kleve
BEGIN:VEVENT
DTSTART;VALUE=DATE:20221030
DTEND;VALUE=DATE:20221031
DTSTAMP:20260423T175555
CREATED:20221008T212358Z
LAST-MODIFIED:20221008T215545Z
UID:4405-1667088000-1667174399@pmk-kleve.de
SUMMARY:Modlitwa różańcowa w kościele
DESCRIPTION:Trwa październik – miesiąc modlitwy różańcowej.  \nZapraszamy wszystkich: dzieci\, młodzież i dorosłych do udziału w nabożeństwie różańcowym 25 min przed Mszą świętą. \n„Odmawiajmy wytrwale Różaniec we wspólnotach kościelnych i naszych rodzinach. W trakcie powtarzanych wezwań zjednoczy on serca\, doprowadzi do zgody\, ożywi nadzieję i obdarzy nas wszystkich pokojem i radością Chrystusa\, który dla nas się narodził\, umarł i zmartwychwstał. \nOdmawiać różaniec to znaczy udać się do szkoły Maryi i uczyć się od niej\, Matki i apostołki Chrystusa\, jak żyć całkowicie zgodnie z wymaganiami wiary chrześcijańskiej. Ona pierwsza uwierzyła\, a w Kościele w Wieczerniku jednoczyła w miłości pierwszych uczniów swego Syna. \nPrzy odmawianiu różańca nie chodzi o powtarzanie formułek\, lecz raczej o nawiązanie intymnego dialogu z Maryją\, o okazanie jej zaufania\, powierzenie trosk\, otwarcie przed nią serca\, ukazanie własnej gotowości na przyjęcie planów Bożych i obietnic wytrwania w wierności dla niej we wszystkich\, szczególnie trudnych i bolesnych sytuacjach\, będąc pewnym jej pomocy w uzyskaniu wszelkich potrzebnych dla naszego zbawiania łask od jej Syna. \n Podczas modlitwy różańcowej kontemplujemy Chrystusa\, patrząc na Niego uprzywilejowanym wzrokiem Jego Matki Maryi; rozważamy tajemnicę życia\, cierpienia i zmartwychwstania Pana oczami i sercem Tej\, która była Mu najbliższa“. (Źródło: cytaty św. Jana Pawła II oraz https://rozaniec.net i https://rozaniec.eu) \nZ przemówienia papieża Jana Pawła II w czasie modlitwy różańcowej w Ludźmierzu\, 7 czerwca 1997 r.: \n„Rozważając bowiem tajemnice różańcowe\, patrzymy na misterium życia\, męki\, śmierci i zmartwychwstania Pana oczyma Maryi\, przeżywamy je tak\, jak Ona w swym matczynym sercu je przeżywała. Odmawiając różaniec\, rozmawiamy z Maryją\, powierzamy Jej ufnie wszystkie nasze troski i smutki\, radości i nadzieje. Prosimy o to\, by pomagała nam podejmować Boże plany i by wypraszała u Syna łaskę potrzebną do wiernego ich wypełniania. Ona – radosna i bolejąca\, i chwalebna\, zawsze u boku Syna – jest równocześnie obecna pośród naszych codziennych spraw.“ \nKrólowo Różańca świętego – módl się za nami! \n
URL:https://pmk-kleve.de/event/modlitwa-rozancowa-w-kosciele-4
CATEGORIES:Wydarzenia na strone główną
END:VEVENT
END:VCALENDAR