BEGIN:VCALENDAR
VERSION:2.0
PRODID:-//PMK Kleve - ECPv4.7.1//NONSGML v1.0//EN
CALSCALE:GREGORIAN
METHOD:PUBLISH
X-WR-CALNAME:PMK Kleve
X-ORIGINAL-URL:https://pmk-kleve.de
X-WR-CALDESC:Veranstaltungen für PMK Kleve
BEGIN:VEVENT
DTSTART;VALUE=DATE:20230312
DTEND;VALUE=DATE:20230313
DTSTAMP:20260422T220442
CREATED:20230217T111516Z
LAST-MODIFIED:20230226T162201Z
UID:5169-1678579200-1678665599@pmk-kleve.de
SUMMARY:Msze św. ze szczególnym udziałem dzieci
DESCRIPTION:W niedzielę 12 marca będą sprawowane w każdym kościele Msze święte ze szczególnym udziałem dzieci.  \nZachęcamy\, aby przed Mszą św. wypisywać karteczki z imieniem i nazwiskiem oraz wrzucić je do koszyczka przy ołtarzu\, aby wziąć udział w losowaniu figurek. Figurki będzie można zabrać na cały miesiąc do domu\, aby całą rodziną /lub/ indywidualnie spotykać się na modlitwie i wypraszać łaski dla siebie i najbliższych oraz za wstawiennictwem Świętych powierzać Bogu sprawy Kościoła i wiernych. \nDla dzieci będą zarezerwowane tego dnia pierwsze ławki w kościele. \n
URL:https://pmk-kleve.de/event/msze-sw-ze-szczegolnym-udzialem-dzieci-10
CATEGORIES:Wydarzenia na strone główną
END:VEVENT
END:VCALENDAR