BEGIN:VCALENDAR
VERSION:2.0
PRODID:-//PMK Kleve - ECPv4.7.1//NONSGML v1.0//EN
CALSCALE:GREGORIAN
METHOD:PUBLISH
X-WR-CALNAME:PMK Kleve
X-ORIGINAL-URL:https://pmk-kleve.de
X-WR-CALDESC:Veranstaltungen für PMK Kleve
BEGIN:VEVENT
DTSTART;VALUE=DATE:20240901
DTEND;VALUE=DATE:20240902
DTSTAMP:20260420T072401
CREATED:20240628T102834Z
LAST-MODIFIED:20240830T134007Z
UID:6687-1725148800-1725235199@pmk-kleve.de
SUMMARY:Msze św. ze szczególnym udziałem dzieci
DESCRIPTION:Zapraszam dzieci do zajmowania miejsc w pierwszych ławkach i do aktywnego udziału we Mszy świętej. \nZachęcam również do wypełniania karteczek z imieniem i nazwiskiem\, w celu wzięcia udziału w losowaniu figurek świętych. \nDzisiaj szczególne błogosławieństwo dzieci i młodzieży z okazji rozpoczecia nowego roku szkolnego i katechetycznego. \n
URL:https://pmk-kleve.de/event/msze-sw-ze-szczegolnym-udzialem-dzieci-13
CATEGORIES:Wydarzenia na strone główną
END:VEVENT
END:VCALENDAR