BEGIN:VCALENDAR
VERSION:2.0
PRODID:-//PMK Kleve - ECPv4.7.1//NONSGML v1.0//EN
CALSCALE:GREGORIAN
METHOD:PUBLISH
X-WR-CALNAME:PMK Kleve
X-ORIGINAL-URL:https://pmk-kleve.de
X-WR-CALDESC:Veranstaltungen für PMK Kleve
BEGIN:VEVENT
DTSTART;VALUE=DATE:20241006
DTEND;VALUE=DATE:20241007
DTSTAMP:20260422T113846
CREATED:20240927T123439Z
LAST-MODIFIED:20240927T123439Z
UID:6843-1728172800-1728259199@pmk-kleve.de
SUMMARY:Msze św. ze szczególnym udziałem dzieci
DESCRIPTION:Zapraszamy dzieci do zajmowania miejsc w pierwszych ławkach w kościele oraz do oddawania karteczek z imieniem i nazwiskiem (i może z napisanym dobrym uczynkiem lub postanowieniem) w celu wzięcia udziału w losowaniu figurek na kolejny miesiąc. \n
URL:https://pmk-kleve.de/event/msze-sw-ze-szczegolnym-udzialem-dzieci-14
CATEGORIES:Wydarzenia na strone główną
END:VEVENT
END:VCALENDAR