BEGIN:VCALENDAR
VERSION:2.0
PRODID:-//PMK Kleve - ECPv4.7.1//NONSGML v1.0//EN
CALSCALE:GREGORIAN
METHOD:PUBLISH
X-WR-CALNAME:PMK Kleve
X-ORIGINAL-URL:https://pmk-kleve.de
X-WR-CALDESC:Veranstaltungen für PMK Kleve
BEGIN:VEVENT
DTSTART;VALUE=DATE:20250302
DTEND;VALUE=DATE:20250303
DTSTAMP:20260423T001104
CREATED:20250214T090849Z
LAST-MODIFIED:20250214T090849Z
UID:7210-1740873600-1740959999@pmk-kleve.de
SUMMARY:Msze św. ze szczególnym udziałem dzieci
DESCRIPTION:Zapraszam dzieci do zajmowania pierwszych ławek w kościele oraz do wypisywania zgłoszeń do udziału w losowaniu figurek świętych na kolejny miesiąc. \n
URL:https://pmk-kleve.de/event/msze-sw-ze-szczegolnym-udzialem-dzieci-15
CATEGORIES:Wydarzenia na strone główną
END:VEVENT
END:VCALENDAR