BEGIN:VCALENDAR
VERSION:2.0
PRODID:-//PMK Kleve - ECPv4.7.1//NONSGML v1.0//EN
CALSCALE:GREGORIAN
METHOD:PUBLISH
X-WR-CALNAME:PMK Kleve
X-ORIGINAL-URL:https://pmk-kleve.de
X-WR-CALDESC:Veranstaltungen für PMK Kleve
BEGIN:VEVENT
DTSTART;VALUE=DATE:20241201
DTEND;VALUE=DATE:20241202
DTSTAMP:20260422T171336
CREATED:20241122T102725Z
LAST-MODIFIED:20241122T102725Z
UID:7061-1733011200-1733097599@pmk-kleve.de
SUMMARY:Msze święte ze szczególnym udziałem dzieci
DESCRIPTION:Dzieci i młodzież zapraszamy do pierwszych ławek w kościele. \n
URL:https://pmk-kleve.de/event/msze-swiete-ze-szczegolnym-udzialem-dzieci-10
CATEGORIES:Wydarzenia na strone główną
END:VEVENT
END:VCALENDAR