BEGIN:VCALENDAR
VERSION:2.0
PRODID:-//PMK Kleve - ECPv4.7.1//NONSGML v1.0//EN
CALSCALE:GREGORIAN
METHOD:PUBLISH
X-WR-CALNAME:PMK Kleve
X-ORIGINAL-URL:https://pmk-kleve.de
X-WR-CALDESC:Veranstaltungen für PMK Kleve
BEGIN:VEVENT
DTSTART;VALUE=DATE:20220306
DTEND;VALUE=DATE:20220307
DTSTAMP:20260425T114745
CREATED:20220227T144747Z
LAST-MODIFIED:20220227T144748Z
UID:3757-1646524800-1646611199@pmk-kleve.de
SUMMARY:Msze święte ze szczególnym udziałem dzieci
DESCRIPTION:W niedzielę 06.03.2021 będą sprawowane msze święte ze szczególnym udziałem dzieci: \nEmmerich am Rhein – godz. 9.30 \nKleve – godz. 12.00 \nKevelaer – godz. 16.00 \nZapraszam wszystkie dzieci do pierwszych ławek. \nPo mszy św. odbędzie się tradycyjne losowanie figurek świętych. Karteczkę ze swoim imieniem i nazwiskiem należy wrzucić do koszyczka przed mszą św.  \nPrzypominamy osobom\, które zostały poprzednio wylosowane\, aby przynieść figurki świętych. \nDziecko\, które zostanie wylosowane\, zabiera figurkę ze sobą\, aby przez kolejny miesiąc modlić się wspólnie z rodzicami i rodzeństwem w domu. \n
URL:https://pmk-kleve.de/event/msze-swiete-ze-szczegolnym-udzialem-dzieci-4
CATEGORIES:Wydarzenia na strone główną
END:VEVENT
END:VCALENDAR