BEGIN:VCALENDAR
VERSION:2.0
PRODID:-//PMK Kleve - ECPv4.7.1//NONSGML v1.0//EN
CALSCALE:GREGORIAN
METHOD:PUBLISH
X-WR-CALNAME:PMK Kleve
X-ORIGINAL-URL:https://pmk-kleve.de
X-WR-CALDESC:Veranstaltungen für PMK Kleve
BEGIN:VEVENT
DTSTART;VALUE=DATE:20240310
DTEND;VALUE=DATE:20240311
DTSTAMP:20260419T155655
CREATED:20240216T112712Z
LAST-MODIFIED:20240216T112713Z
UID:6331-1710028800-1710115199@pmk-kleve.de
SUMMARY:Msze święte ze szczególnym udziałem dzieci
DESCRIPTION:Zapraszam dzieci do zajmowania miejsc w pierwszych ławkach w kościele oraz do oddawania karteczek z imieniem i nazwiskiem (i może z napisanym dobrym uczynkiem lub postanowieniem wielkopostnym) w celu wzięcia udziału w losowaniu figurek na kolejny miesiąc. \n
URL:https://pmk-kleve.de/event/msze-swiete-ze-szczegolnym-udzialem-dzieci-7
CATEGORIES:Wydarzenia na strone główną
END:VEVENT
END:VCALENDAR