BEGIN:VCALENDAR
VERSION:2.0
PRODID:-//PMK Kleve - ECPv4.7.1//NONSGML v1.0//EN
CALSCALE:GREGORIAN
METHOD:PUBLISH
X-WR-CALNAME:PMK Kleve
X-ORIGINAL-URL:https://pmk-kleve.de
X-WR-CALDESC:Veranstaltungen für PMK Kleve
BEGIN:VEVENT
DTSTART;VALUE=DATE:20240512
DTEND;VALUE=DATE:20240513
DTSTAMP:20260420T040046
CREATED:20240503T121619Z
LAST-MODIFIED:20240503T121620Z
UID:6550-1715472000-1715558399@pmk-kleve.de
SUMMARY:Msze świete ze szczególnym udziałem dzieci
DESCRIPTION:Zapraszamy dzieci do zajmowania miejsc w pierwszych ławkach w kościele oraz do oddawania karteczek z imieniem i nazwiskiem (i może z napisanym dobrym uczynkiem lub postanowieniem) w celu wzięcia udziału w losowaniu figurek na kolejny miesiąc. \n
URL:https://pmk-kleve.de/event/msze-swiete-ze-szczegolnym-udzialem-dzieci-8
CATEGORIES:Wydarzenia na strone główną
END:VEVENT
END:VCALENDAR