BEGIN:VCALENDAR
VERSION:2.0
PRODID:-//PMK Kleve - ECPv4.7.1//NONSGML v1.0//EN
CALSCALE:GREGORIAN
METHOD:PUBLISH
X-WR-CALNAME:PMK Kleve
X-ORIGINAL-URL:https://pmk-kleve.de
X-WR-CALDESC:Veranstaltungen für PMK Kleve
BEGIN:VEVENT
DTSTART;VALUE=DATE:20230701
DTEND;VALUE=DATE:20230702
DTSTAMP:20260420T112434
CREATED:20230623T122254Z
LAST-MODIFIED:20230623T122254Z
UID:5651-1688169600-1688255999@pmk-kleve.de
SUMMARY:Najdroższej Krwi Jezusa Chrystusa
DESCRIPTION:
URL:https://pmk-kleve.de/event/najdrozszej-krwi-jezusa-chrystusa
CATEGORIES:Wydarzenia na strone główną
END:VEVENT
END:VCALENDAR