BEGIN:VCALENDAR
VERSION:2.0
PRODID:-//PMK Kleve - ECPv4.7.1//NONSGML v1.0//EN
CALSCALE:GREGORIAN
METHOD:PUBLISH
X-WR-CALNAME:PMK Kleve
X-ORIGINAL-URL:https://pmk-kleve.de
X-WR-CALDESC:Veranstaltungen für PMK Kleve
BEGIN:VEVENT
DTSTART;VALUE=DATE:20230513
DTEND;VALUE=DATE:20230514
DTSTAMP:20260422T192625
CREATED:20230428T151729Z
LAST-MODIFIED:20230428T151729Z
UID:5431-1683936000-1684022399@pmk-kleve.de
SUMMARY:Najświętszej Maryi Panny Fatimskiej
DESCRIPTION:
URL:https://pmk-kleve.de/event/najswietszej-maryi-panny-fatimskiej
CATEGORIES:Wydarzenia na strone główną
END:VEVENT
END:VCALENDAR