BEGIN:VCALENDAR
VERSION:2.0
PRODID:-//PMK Kleve - ECPv4.7.1//NONSGML v1.0//EN
CALSCALE:GREGORIAN
METHOD:PUBLISH
X-WR-CALNAME:PMK Kleve
X-ORIGINAL-URL:https://pmk-kleve.de
X-WR-CALDESC:Veranstaltungen für PMK Kleve
BEGIN:VEVENT
DTSTART;VALUE=DATE:20240503
DTEND;VALUE=DATE:20240504
DTSTAMP:20260420T022451
CREATED:20240503T110545Z
LAST-MODIFIED:20240503T110545Z
UID:6544-1714694400-1714780799@pmk-kleve.de
SUMMARY:Najświętszej Maryi Panny Królowej Polski
DESCRIPTION: \n
URL:https://pmk-kleve.de/event/najswietszej-maryi-panny-krolowej-polski-2
CATEGORIES:Wydarzenia na strone główną
END:VEVENT
END:VCALENDAR