BEGIN:VCALENDAR
VERSION:2.0
PRODID:-//PMK Kleve - ECPv4.7.1//NONSGML v1.0//EN
CALSCALE:GREGORIAN
METHOD:PUBLISH
X-WR-CALNAME:PMK Kleve
X-ORIGINAL-URL:https://pmk-kleve.de
X-WR-CALDESC:Veranstaltungen für PMK Kleve
BEGIN:VEVENT
DTSTART;VALUE=DATE:20230529
DTEND;VALUE=DATE:20230530
DTSTAMP:20260422T153820
CREATED:20230520T221131Z
LAST-MODIFIED:20230526T112208Z
UID:5519-1685318400-1685404799@pmk-kleve.de
SUMMARY:Najświętszej Maryi Panny Matki Kościoła
DESCRIPTION:Msza św. będzie sprawowana o godz. 12.00 w Fingerhutshof. Adres: Fingerhutshof 20\, 47546 Kalkar\, (ośrodek gdzie będziemy na obozie z ministrantami i scholką).  \nPo Mszy św. możliwość wspólnego pikniku na łące (będzie do dyspozycji grill). Wyżywienie we własnym zakresie. \n29 maja nasz ksiądz proboszcz Marcin Dereszkiewicz SChr obchodzi rocznicę swoich urodzin.  \nSerdecznie zapraszamy do wspólnego świętowania. \n
URL:https://pmk-kleve.de/event/najswietszej-maryi-panny-matki-kosciola-2
CATEGORIES:Wydarzenia na strone główną
END:VEVENT
END:VCALENDAR