BEGIN:VCALENDAR
VERSION:2.0
PRODID:-//PMK Kleve - ECPv4.7.1//NONSGML v1.0//EN
CALSCALE:GREGORIAN
METHOD:PUBLISH
X-WR-CALNAME:PMK Kleve
X-ORIGINAL-URL:https://pmk-kleve.de
X-WR-CALDESC:Veranstaltungen für PMK Kleve
BEGIN:VEVENT
DTSTART;VALUE=DATE:20231007
DTEND;VALUE=DATE:20231008
DTSTAMP:20260420T000340
CREATED:20230824T093033Z
LAST-MODIFIED:20231007T085651Z
UID:5805-1696636800-1696723199@pmk-kleve.de
SUMMARY:Najświętszej Maryi Panny Różańcowej
DESCRIPTION:Pierwsza sobota miesiąca \nZ powodu pielgrzymki do Banneux\, nie będzie tego dnia Mszy świętej porannej ani Adoracji wieczornej w Kleve. \n
URL:https://pmk-kleve.de/event/najswietszej-maryi-panny-rozancowej-2
CATEGORIES:Wydarzenia na strone główną
END:VEVENT
END:VCALENDAR