BEGIN:VCALENDAR
VERSION:2.0
PRODID:-//PMK Kleve - ECPv4.7.1//NONSGML v1.0//EN
CALSCALE:GREGORIAN
METHOD:PUBLISH
X-WR-CALNAME:PMK Kleve
X-ORIGINAL-URL:https://pmk-kleve.de
X-WR-CALDESC:Veranstaltungen für PMK Kleve
BEGIN:VEVENT
DTSTART;VALUE=DATE:20221007
DTEND;VALUE=DATE:20221008
DTSTAMP:20260425T103853
CREATED:20220923T132813Z
LAST-MODIFIED:20220923T132813Z
UID:4377-1665100800-1665187199@pmk-kleve.de
SUMMARY:Najświętszej Maryi Panny Różańcowej
DESCRIPTION:
URL:https://pmk-kleve.de/event/najswietszej-maryi-panny-rozancowej
CATEGORIES:Wydarzenia na strone główną
END:VEVENT
END:VCALENDAR