BEGIN:VCALENDAR
VERSION:2.0
PRODID:-//PMK Kleve - ECPv4.7.1//NONSGML v1.0//EN
CALSCALE:GREGORIAN
METHOD:PUBLISH
X-WR-CALNAME:PMK Kleve
X-ORIGINAL-URL:https://pmk-kleve.de
X-WR-CALDESC:Veranstaltungen für PMK Kleve
BEGIN:VEVENT
DTSTART;VALUE=DATE:20231111
DTEND;VALUE=DATE:20231112
DTSTAMP:20260420T031615
CREATED:20231103T104014Z
LAST-MODIFIED:20231103T104015Z
UID:5972-1699660800-1699747199@pmk-kleve.de
SUMMARY:Narodowe Święto Niepodległości
DESCRIPTION:
URL:https://pmk-kleve.de/event/narodowe-swieto-niepodleglosci
CATEGORIES:Wydarzenia na strone główną
END:VEVENT
END:VCALENDAR