BEGIN:VCALENDAR
VERSION:2.0
PRODID:-//PMK Kleve - ECPv4.7.1//NONSGML v1.0//EN
CALSCALE:GREGORIAN
METHOD:PUBLISH
X-WR-CALNAME:PMK Kleve
X-ORIGINAL-URL:https://pmk-kleve.de
X-WR-CALDESC:Veranstaltungen für PMK Kleve
BEGIN:VEVENT
DTSTART;VALUE=DATE:20230908
DTEND;VALUE=DATE:20230909
DTSTAMP:20260420T033009
CREATED:20230824T092044Z
LAST-MODIFIED:20230908T093956Z
UID:5780-1694131200-1694217599@pmk-kleve.de
SUMMARY:Narodzenie Najświętszej Maryi Panny
DESCRIPTION:Msza św. w Emmerich kościół St. Aldegundis\, (Aldegundiskirchplatz 1) godz. 19.00 \n
URL:https://pmk-kleve.de/event/narodzenie-najswietszej-maryi-panny
CATEGORIES:Wydarzenia na strone główną
END:VEVENT
END:VCALENDAR