BEGIN:VCALENDAR
VERSION:2.0
PRODID:-//PMK Kleve - ECPv4.7.1//NONSGML v1.0//EN
CALSCALE:GREGORIAN
METHOD:PUBLISH
X-WR-CALNAME:PMK Kleve
X-ORIGINAL-URL:https://pmk-kleve.de
X-WR-CALDESC:Veranstaltungen für PMK Kleve
BEGIN:VEVENT
DTSTART;VALUE=DATE:20250427
DTEND;VALUE=DATE:20250428
DTSTAMP:20260423T051425
CREATED:20250314T115202Z
LAST-MODIFIED:20250425T090005Z
UID:7277-1745712000-1745798399@pmk-kleve.de
SUMMARY:Niedziela Miłosierdzia Bożego
DESCRIPTION:Porządek Mszy św.: \n\ngodz. 9.30 – Stiftskirche Kleve\ngodz. 12.00 – Liebfrauenkirche Emmerich am Rhein\ngodz. 16.00 – St. Antonius Kevelaer\n\n
URL:https://pmk-kleve.de/event/niedziela-milosierdzia-bozego-5
CATEGORIES:Wydarzenia na strone główną
END:VEVENT
END:VCALENDAR