BEGIN:VCALENDAR
VERSION:2.0
PRODID:-//PMK Kleve - ECPv4.7.1//NONSGML v1.0//EN
CALSCALE:GREGORIAN
METHOD:PUBLISH
X-WR-CALNAME:PMK Kleve
X-ORIGINAL-URL:https://pmk-kleve.de
X-WR-CALDESC:Veranstaltungen für PMK Kleve
BEGIN:VEVENT
DTSTART;VALUE=DATE:20240324
DTEND;VALUE=DATE:20240325
DTSTAMP:20260419T183740
CREATED:20240209T115138Z
LAST-MODIFIED:20240209T115138Z
UID:6308-1711238400-1711324799@pmk-kleve.de
SUMMARY:Niedziela Palmowa
DESCRIPTION:
URL:https://pmk-kleve.de/event/niedziela-palmowa-2
CATEGORIES:Wydarzenia na strone główną
END:VEVENT
END:VCALENDAR