BEGIN:VCALENDAR
VERSION:2.0
PRODID:-//PMK Kleve - ECPv4.7.1//NONSGML v1.0//EN
CALSCALE:GREGORIAN
METHOD:PUBLISH
X-WR-CALNAME:PMK Kleve
X-ORIGINAL-URL:https://pmk-kleve.de
X-WR-CALDESC:Veranstaltungen für PMK Kleve
BEGIN:VEVENT
DTSTART;VALUE=DATE:20250413
DTEND;VALUE=DATE:20250414
DTSTAMP:20260423T080116
CREATED:20250314T114239Z
LAST-MODIFIED:20250314T114240Z
UID:7265-1744502400-1744588799@pmk-kleve.de
SUMMARY:Niedziela Palmowa
DESCRIPTION:
URL:https://pmk-kleve.de/event/niedziela-palmowa-3
CATEGORIES:Wydarzenia na strone główną
END:VEVENT
END:VCALENDAR