BEGIN:VCALENDAR
VERSION:2.0
PRODID:-//PMK Kleve - ECPv4.7.1//NONSGML v1.0//EN
CALSCALE:GREGORIAN
METHOD:PUBLISH
X-WR-CALNAME:PMK Kleve
X-ORIGINAL-URL:https://pmk-kleve.de
X-WR-CALDESC:Veranstaltungen für PMK Kleve
BEGIN:VEVENT
DTSTART;VALUE=DATE:20230122
DTEND;VALUE=DATE:20230123
DTSTAMP:20260423T053050
CREATED:20230114T191605Z
LAST-MODIFIED:20230116T191026Z
UID:5047-1674345600-1674431999@pmk-kleve.de
SUMMARY:Niedziela Słowa Bożego
DESCRIPTION: \nZgodnie z motu proprio papieża Franciszka „Aperuit illis“ w Kościele katolickim w III niedzielę okresu zwykłego obchodzona jest Niedziela Słowa Bożego. W tym roku przypada ona 22 stycznia – obchodzona będzie już po raz czwarty. Jej celem jest pogłębianie świadomości znaczenia Pisma Świętego w życiu wierzących oraz w liturgii. \n„Z myślą o regularnym wspieraniu duszpasterzy i wiernych w samodzielnym rozważaniu i medytacji Słowa Bożego\, przygotowano aplikację mobilną pod nazwą +Dzieło Biblijne+\, która od 28 grudnia 2021 dostępna jest nieodpłatnie w AppStore i GooglePlay. Może to być narzędzie pomocne w medytacji czytań liturgicznych i popularyzujące badania biblijno-teologiczne“ – wskazało biuro prasowe archidiecezji warszawskiej. \nŹródło: https://m.niedziela.pl/artykul/76349/Niedziela-Slowa-Bozego  oraz https://fiat.fm/kosciol/niedziela-slowa-bozego-22-stycznia-2023/  \n
URL:https://pmk-kleve.de/event/niedziela-slowa-bozego-2
CATEGORIES:Wydarzenia na strone główną
END:VEVENT
END:VCALENDAR