BEGIN:VCALENDAR
VERSION:2.0
PRODID:-//PMK Kleve - ECPv4.7.1//NONSGML v1.0//EN
CALSCALE:GREGORIAN
METHOD:PUBLISH
X-WR-CALNAME:PMK Kleve
X-ORIGINAL-URL:https://pmk-kleve.de
X-WR-CALDESC:Veranstaltungen für PMK Kleve
BEGIN:VEVENT
DTSTART;VALUE=DATE:20220123
DTEND;VALUE=DATE:20220124
DTSTAMP:20260425T172829
CREATED:20220103T203340Z
LAST-MODIFIED:20220120T115515Z
UID:3667-1642896000-1642982399@pmk-kleve.de
SUMMARY:Niedziela Słowa Bożego
DESCRIPTION:Na mocy Listu apostolskiego w formie motu proprio „Aperuit illis” wydanego 30 września 2019 r. Papież Franciszek ustanowił „Niedzielę Słowa Bożego”\, która ma się odbywać co roku w trzecią niedzielę okresu zwykłego. \nW 2022 roku Niedziela Słowa Bożego przypada na 23 stycznia. \nJej celem jest pogłębianie świadomości znaczenia Pisma Świętego w życiu wierzących oraz w liturgii\, która umożliwia nam żywy i stały dialog z Bogiem. \n„Z myślą o regularnym wspieraniu duszpasterzy i wiernych w samodzielnym rozważaniu i medytacji Słowa Bożego\, przygotowano aplikację mobilną pod nazwą +Dzieło Biblijne+\, która od 28 grudnia 2021 dostępna jest nieodpłatnie w AppStore i GooglePlay. Może to być narzędzie pomocne w medytacji czytań liturgicznych i popularyzujące badania biblijno-teologiczne“ – wskazało biuro prasowe archidiecezji warszawskiej. \nŹródło: niedziela.pl \n
URL:https://pmk-kleve.de/event/niedziela-slowa-bozego
CATEGORIES:Wydarzenia na strone główną
END:VEVENT
END:VCALENDAR