BEGIN:VCALENDAR
VERSION:2.0
PRODID:-//PMK Kleve - ECPv4.7.1//NONSGML v1.0//EN
CALSCALE:GREGORIAN
METHOD:PUBLISH
X-WR-CALNAME:PMK Kleve
X-ORIGINAL-URL:https://pmk-kleve.de
X-WR-CALDESC:Veranstaltungen für PMK Kleve
BEGIN:VEVENT
DTSTART;VALUE=DATE:20190421
DTEND;VALUE=DATE:20190422
DTSTAMP:20260425T182725
CREATED:20190402T065704Z
LAST-MODIFIED:20190412T150924Z
UID:550-1555804800-1555891199@pmk-kleve.de
SUMMARY:Niedziela Zmartwychwstania
DESCRIPTION:  \n  \nMsze św. \nw Emmerich\, St Aldegundis o godz. 9.30 \nKleve o godz. 12.00 \nw Kevelaer o godz. 16.00 \n
URL:https://pmk-kleve.de/event/niedziela-zmartwychwstania
ATTACH;FMTTYPE=image/jpeg:https://pmk-kleve.de/wp-content/uploads/2019/04/swieta-wielkanocne-2019-01.jpg
END:VEVENT
END:VCALENDAR