BEGIN:VCALENDAR
VERSION:2.0
PRODID:-//PMK Kleve - ECPv4.7.1//NONSGML v1.0//EN
CALSCALE:GREGORIAN
METHOD:PUBLISH
X-WR-CALNAME:PMK Kleve
X-ORIGINAL-URL:https://pmk-kleve.de
X-WR-CALDESC:Veranstaltungen für PMK Kleve
BEGIN:VEVENT
DTSTART;VALUE=DATE:20231208
DTEND;VALUE=DATE:20231209
DTSTAMP:20260419T135757
CREATED:20231201T093853Z
LAST-MODIFIED:20231201T093853Z
UID:6060-1701993600-1702079999@pmk-kleve.de
SUMMARY:Niepokalane Poczęcie NMP
DESCRIPTION:W piątek\, 8 grudnia\, będziemy świętować Niepokalane Poczęcie Najświętszej Maryi Panny. Zapraszamy na Mszę świętą o godz. 19.00 do Emmerich\, podczas której będziemy prosić Maryję o pomoc w walce z pokusami i grzechem\, o pomoc w walce o czystość serca oraz o pokorne poszukiwanie i pełnienie woli Bożej w życiu. W ów piątek\, z racji uroczystości Niepokalanego Poczęcia\, nie obowiązuje nas piątkowy post jakościowy.  \n
URL:https://pmk-kleve.de/event/niepokalane-poczecie-nmp
CATEGORIES:Wydarzenia na strone główną
END:VEVENT
END:VCALENDAR