BEGIN:VCALENDAR
VERSION:2.0
PRODID:-//PMK Kleve - ECPv4.7.1//NONSGML v1.0//EN
CALSCALE:GREGORIAN
METHOD:PUBLISH
X-WR-CALNAME:PMK Kleve
X-ORIGINAL-URL:https://pmk-kleve.de
X-WR-CALDESC:Veranstaltungen für PMK Kleve
BEGIN:VEVENT
DTSTART;VALUE=DATE:20230617
DTEND;VALUE=DATE:20230618
DTSTAMP:20260422T123953
CREATED:20230609T122403Z
LAST-MODIFIED:20230609T122403Z
UID:5594-1686960000-1687046399@pmk-kleve.de
SUMMARY:Niepokalanego Serca NMP
DESCRIPTION:Msza święta pod przewodnictwem ks. bp. Piotra Turzyńskiego w Sanktuarium Matki Bożej Królowej Pokoju o godz. 18.30 – w ramach Pielgrzymki Polonijnej (Adres: Elberfelder Str. 12\, 42553 Velbert) \n  \n
URL:https://pmk-kleve.de/event/niepokalanego-serca-nmp
CATEGORIES:Wydarzenia na strone główną
END:VEVENT
END:VCALENDAR