BEGIN:VCALENDAR
VERSION:2.0
PRODID:-//PMK Kleve - ECPv4.7.1//NONSGML v1.0//EN
CALSCALE:GREGORIAN
METHOD:PUBLISH
X-WR-CALNAME:PMK Kleve
X-ORIGINAL-URL:https://pmk-kleve.de
X-WR-CALDESC:Veranstaltungen für PMK Kleve
BEGIN:VEVENT
DTSTART;VALUE=DATE:20230822
DTEND;VALUE=DATE:20230823
DTSTAMP:20260422T102515
CREATED:20230818T102558Z
LAST-MODIFIED:20230818T102559Z
UID:5750-1692662400-1692748799@pmk-kleve.de
SUMMARY:NMP Królowej
DESCRIPTION:
URL:https://pmk-kleve.de/event/nmp-krolowej
CATEGORIES:Wydarzenia na strone główną
END:VEVENT
END:VCALENDAR