BEGIN:VCALENDAR
VERSION:2.0
PRODID:-//PMK Kleve - ECPv4.7.1//NONSGML v1.0//EN
CALSCALE:GREGORIAN
METHOD:PUBLISH
X-WR-CALNAME:PMK Kleve
X-ORIGINAL-URL:https://pmk-kleve.de
X-WR-CALDESC:Veranstaltungen für PMK Kleve
BEGIN:VEVENT
DTSTART;VALUE=DATE:20231129
DTEND;VALUE=DATE:20231130
DTSTAMP:20260420T013712
CREATED:20231124T120203Z
LAST-MODIFIED:20231129T141423Z
UID:6034-1701216000-1701302399@pmk-kleve.de
SUMMARY:Nowenna do Matki Bożej Nieustającej Pomocy
DESCRIPTION:Nowenna do Matki Bożej Nieustającej Pomocy – Kleve\, kościół St. Mariä Empfängnis\, godz. 19.00 \nPrzed Nowenną – od godz. 18.30 wspólna modlitwa różańcowa. \nPo Nowennie – wieczorna Eucharystia. \n
URL:https://pmk-kleve.de/event/nowenna-do-matki-bozej-nieustajacej-pomocy-3
CATEGORIES:Wydarzenia na strone główną
END:VEVENT
END:VCALENDAR