BEGIN:VCALENDAR
VERSION:2.0
PRODID:-//PMK Kleve - ECPv4.7.1//NONSGML v1.0//EN
CALSCALE:GREGORIAN
METHOD:PUBLISH
X-WR-CALNAME:PMK Kleve
X-ORIGINAL-URL:https://pmk-kleve.de
X-WR-CALDESC:Veranstaltungen für PMK Kleve
BEGIN:VEVENT
DTSTART;VALUE=DATE:20231213
DTEND;VALUE=DATE:20231214
DTSTAMP:20260421T102109
CREATED:20231124T120317Z
LAST-MODIFIED:20231124T120317Z
UID:6038-1702425600-1702511999@pmk-kleve.de
SUMMARY:Nowenna do Matki Bożej Nieustąjacej Pomocy
DESCRIPTION:Nowenna do Matki Bożej Nieustąjacej Pomocy – Kleve\, kościół St. Mariä Empfängnis\, godz. 19.00 \nPrzed Nowenną – od godz. 18.30 wspólna modlitwa różańcowa. \nPo Nowennie – wieczorna Eucharystia. \n
URL:https://pmk-kleve.de/event/nowenna-do-matki-bozej-nieustajacej-pomocy-5
CATEGORIES:Wydarzenia na strone główną
END:VEVENT
END:VCALENDAR