BEGIN:VCALENDAR
VERSION:2.0
PRODID:-//PMK Kleve - ECPv4.7.1//NONSGML v1.0//EN
CALSCALE:GREGORIAN
METHOD:PUBLISH
X-WR-CALNAME:PMK Kleve
X-ORIGINAL-URL:https://pmk-kleve.de
X-WR-CALDESC:Veranstaltungen für PMK Kleve
BEGIN:VEVENT
DTSTART;TZID=UTC+0:20240103T190000
DTEND;TZID=UTC+0:20240103T200000
DTSTAMP:20260419T204137
CREATED:20231229T123526Z
LAST-MODIFIED:20231229T123526Z
UID:6186-1704308400-1704312000@pmk-kleve.de
SUMMARY:Nowenna do Matki Bożej  Nieustającej Pomocy.
DESCRIPTION:Przed Mszą św. w Kleve\, Unterstadtkirche\, godz. 19.00 \n
URL:https://pmk-kleve.de/event/nowenna-do-matki-bozej-nieustajacej-pomocy-7
CATEGORIES:Wydarzenia na strone główną
END:VEVENT
END:VCALENDAR