BEGIN:VCALENDAR
VERSION:2.0
PRODID:-//PMK Kleve - ECPv4.7.1//NONSGML v1.0//EN
CALSCALE:GREGORIAN
METHOD:PUBLISH
X-WR-CALNAME:PMK Kleve
X-ORIGINAL-URL:https://pmk-kleve.de
X-WR-CALDESC:Veranstaltungen für PMK Kleve
BEGIN:VEVENT
DTSTART;VALUE=DATE:20220106
DTEND;VALUE=DATE:20220107
DTSTAMP:20260426T020920
CREATED:20220103T202403Z
LAST-MODIFIED:20220103T202403Z
UID:3651-1641427200-1641513599@pmk-kleve.de
SUMMARY:Objawienie Pańskie
DESCRIPTION:Uroczystość Objawienia Pańskiego\, popularnie zwana jest świętem Trzech Króli. Będziemy wspominać Mędrców ze Wschodu\, którzy przybyli oddać pokłon Jezusowi. To wydarzenie zapowiada\, że Zbawiciel nie przyszedł tylko do wybranych\, ale do wszystkich ludzi na ziemi.  \nMsza Św. z obrzędem błogosławieństwa kredy i kadzidła będzie sprawowana w Kevelaer o godz. 19.30 w Sanktuarium MB. \nCzwartek\, 6 stycznia\, jest jednocześnie pierwszym czwartkiem miesiąca. Niech nie zabraknie modlitwy za kapłanów oraz o nowe powołania kapłańskie i zakonne\, szczególnie do pracy w krajach misyjnych. Tego dnia po Mszy św. nabożeństwo z modlitwą o powołania. \n
URL:https://pmk-kleve.de/event/objawienie-panskie
CATEGORIES:Wydarzenia na strone główną
END:VEVENT
END:VCALENDAR