BEGIN:VCALENDAR
VERSION:2.0
PRODID:-//PMK Kleve - ECPv4.7.1//NONSGML v1.0//EN
CALSCALE:GREGORIAN
METHOD:PUBLISH
X-WR-CALNAME:PMK Kleve
X-ORIGINAL-URL:https://pmk-kleve.de
X-WR-CALDESC:Veranstaltungen für PMK Kleve
BEGIN:VEVENT
DTSTART;VALUE=DATE:20221023
DTEND;VALUE=DATE:20221024
DTSTAMP:20260425T140430
CREATED:20221013T101349Z
LAST-MODIFIED:20221024T162140Z
UID:4456-1666483200-1666569599@pmk-kleve.de
SUMMARY:Odpust parafialny
DESCRIPTION:22 października przypada wspomnienie św. papieża Jana Pawła II\, a więc święto patronalne naszej Misji.  \nZe świętem patronalnym związana jest doroczna uroczystość parafialnej rodziny\, czyli Odpust parafialny.  \nMsze św. odpustowe będą sprawowane w niedzielę 23 października w każdym kościele. \nKazanie odpustowe wygłosi ksiądz prałat Jan Główczyk z Rzymu. \nDzień odpustu jest związany z możliwością uzyskania daru duchowego jakim jest odpust zupełny\, czyli darowanie wszystkich kar doczesnych za popełnione grzechy. Kościół dając możliwość zyskania w uroczystość odpustową odpust zupełny\, wyznacza warunki jakie trzeba spełnić do jego zyskania. Zwyczajne warunki to spowiedź sakramentalna\, komunia święta\, wolność od przywiązania do jakiegokolwiek grzechu oraz odmówienie modlitw: Ojcze nasz\, Wierzę…\, dowolną modlitwę w intencjach Ojca Świętego i uczestnictwo we Mszy św. odpustowej.  \nPo Mszach św. w Emmerich i Kleve zorganizowaliśmy wspólnymi siłami poczęstunek i spotkanie przy kawie. Zapraszamy wszystkich parafian do udziału we wspólnym świętowaniu. \n
URL:https://pmk-kleve.de/event/odpust-parafialny-2
CATEGORIES:Wydarzenia na strone główną
END:VEVENT
END:VCALENDAR