BEGIN:VCALENDAR
VERSION:2.0
PRODID:-//PMK Kleve - ECPv4.7.1//NONSGML v1.0//EN
CALSCALE:GREGORIAN
METHOD:PUBLISH
X-WR-CALNAME:PMK Kleve
X-ORIGINAL-URL:https://pmk-kleve.de
X-WR-CALDESC:Veranstaltungen für PMK Kleve
BEGIN:VEVENT
DTSTART;VALUE=DATE:20231022
DTEND;VALUE=DATE:20231023
DTSTAMP:20260420T000037
CREATED:20231010T185652Z
LAST-MODIFIED:20231010T185652Z
UID:5902-1697932800-1698019199@pmk-kleve.de
SUMMARY:Odpust parafialny
DESCRIPTION: \n
URL:https://pmk-kleve.de/event/odpust-parafialny-3
CATEGORIES:Wydarzenia na strone główną
END:VEVENT
END:VCALENDAR