BEGIN:VCALENDAR
VERSION:2.0
PRODID:-//PMK Kleve - ECPv4.7.1//NONSGML v1.0//EN
CALSCALE:GREGORIAN
METHOD:PUBLISH
X-WR-CALNAME:PMK Kleve
X-ORIGINAL-URL:https://pmk-kleve.de
X-WR-CALDESC:Veranstaltungen für PMK Kleve
BEGIN:VEVENT
DTSTART;VALUE=DATE:20241027
DTEND;VALUE=DATE:20241028
DTSTAMP:20260422T112401
CREATED:20240913T084420Z
LAST-MODIFIED:20241011T102426Z
UID:6799-1729987200-1730073599@pmk-kleve.de
SUMMARY:Odpust parafialny
DESCRIPTION:Msze święte według stałego porządku: \n\ngodz. 9.30 Emmerich am Rhein\, kościół Św. Aldegundy\ngodz. 12.00 Kleve\, kościół Chrystusa Króla\ngodz. 16.00 Kevelaer\, kościół Św. Antoniego \n\nPo Mszach świętych w Kleve i w Kevelaer spotkanie w sali przy kościele. \n
URL:https://pmk-kleve.de/event/odpust-parafialny-4
CATEGORIES:Wydarzenia na strone główną
END:VEVENT
END:VCALENDAR