BEGIN:VCALENDAR
VERSION:2.0
PRODID:-//PMK Kleve - ECPv4.7.1//NONSGML v1.0//EN
CALSCALE:GREGORIAN
METHOD:PUBLISH
X-WR-CALNAME:PMK Kleve
X-ORIGINAL-URL:https://pmk-kleve.de
X-WR-CALDESC:Veranstaltungen für PMK Kleve
BEGIN:VEVENT
DTSTART;VALUE=DATE:20231121
DTEND;VALUE=DATE:20231122
DTSTAMP:20260420T050555
CREATED:20231117T134849Z
LAST-MODIFIED:20231117T134849Z
UID:5994-1700524800-1700611199@pmk-kleve.de
SUMMARY:Ofiarowanie Najświętszej Maryi Panny
DESCRIPTION:We wtorek\, 21 listopada\, w liturgii wspominamy Ofiarowanie Najświętszej Maryi Panny.  \nGdy Maryja miała trzy lata\, rodzice\, Święty Joachim i Święta Anna\, oddali Ją kapłanowi Zachariaszowi\, ojcu Świętego Jana Chrzciciela\, na wychowanie i naukę. Maryja pozostała w świątyni około 12 lat.  \nDziś wspominając tamto Ofiarowanie\, powinniśmy odnawiać w sobie pragnienie poświęcania się Bogu i szukania Jego woli. \n
URL:https://pmk-kleve.de/event/ofiarowanie-najswietszej-maryi-panny-2
CATEGORIES:Wydarzenia na strone główną
END:VEVENT
END:VCALENDAR