BEGIN:VCALENDAR
VERSION:2.0
PRODID:-//PMK Kleve - ECPv4.7.1//NONSGML v1.0//EN
CALSCALE:GREGORIAN
METHOD:PUBLISH
X-WR-CALNAME:PMK Kleve
X-ORIGINAL-URL:https://pmk-kleve.de
X-WR-CALDESC:Veranstaltungen für PMK Kleve
BEGIN:VEVENT
DTSTART;VALUE=DATE:20221121
DTEND;VALUE=DATE:20221122
DTSTAMP:20260423T103953
CREATED:20221116T163747Z
LAST-MODIFIED:20221116T163747Z
UID:4600-1668988800-1669075199@pmk-kleve.de
SUMMARY:Ofiarowanie Najświętszej Maryi Panny
DESCRIPTION:Dzisiaj w liturgii przypada wspomnienie Ofiarowania Najświętszej Maryi Panny. Tradycja przekazuje\, że Maryja została jako dziecko przedstawiona w świątyni i przy niej wzrastała. Dla nas Matka Chrystusa pozostaje szczególnym wzorem życia poświęconego Bogu.  \n
URL:https://pmk-kleve.de/event/ofiarowanie-najswietszej-maryi-panny
CATEGORIES:Wydarzenia na strone główną
END:VEVENT
END:VCALENDAR