BEGIN:VCALENDAR
VERSION:2.0
PRODID:-//PMK Kleve - ECPv4.7.1//NONSGML v1.0//EN
CALSCALE:GREGORIAN
METHOD:PUBLISH
X-WR-CALNAME:PMK Kleve
X-ORIGINAL-URL:https://pmk-kleve.de
X-WR-CALDESC:Veranstaltungen für PMK Kleve
BEGIN:VEVENT
DTSTART;VALUE=DATE:20240202
DTEND;VALUE=DATE:20240203
DTSTAMP:20260419T122538
CREATED:20240119T131044Z
LAST-MODIFIED:20240126T124710Z
UID:6230-1706832000-1706918399@pmk-kleve.de
SUMMARY:Ofiarowanie Pańskie / MB Gromnicznej
DESCRIPTION:Msza święta z błogosławieństwem Gromnic – kościół St. Aldegundis\, Emmerich\, godz. 19.00 \n  \n
URL:https://pmk-kleve.de/event/ofiarowanie-panskie-2
CATEGORIES:Wydarzenia na strone główną
END:VEVENT
END:VCALENDAR