BEGIN:VCALENDAR
VERSION:2.0
PRODID:-//PMK Kleve - ECPv4.7.1//NONSGML v1.0//EN
CALSCALE:GREGORIAN
METHOD:PUBLISH
X-WR-CALNAME:PMK Kleve
X-ORIGINAL-URL:https://pmk-kleve.de
X-WR-CALDESC:Veranstaltungen für PMK Kleve
BEGIN:VEVENT
DTSTART;TZID=UTC+0:20231224T200000
DTEND;TZID=UTC+0:20231224T213000
DTSTAMP:20260419T221744
CREATED:20231208T141548Z
LAST-MODIFIED:20231208T141548Z
UID:6132-1703448000-1703453400@pmk-kleve.de
SUMMARY:Pasterka Emmerich
DESCRIPTION:Kościół St. Aldegundis – godz. 20.00 – Aldegundiskirchplatz 1\, Emmerich am Rhein \n
URL:https://pmk-kleve.de/event/pasterka-emmerich
CATEGORIES:Wydarzenia na strone główną
END:VEVENT
END:VCALENDAR