BEGIN:VCALENDAR
VERSION:2.0
PRODID:-//PMK Kleve - ECPv4.7.1//NONSGML v1.0//EN
CALSCALE:GREGORIAN
METHOD:PUBLISH
X-WR-CALNAME:PMK Kleve
X-ORIGINAL-URL:https://pmk-kleve.de
X-WR-CALDESC:Veranstaltungen für PMK Kleve
BEGIN:VEVENT
DTSTART;VALUE=DATE:20260502
DTEND;VALUE=DATE:20260503
DTSTAMP:20260424T112445
CREATED:20260418T123225Z
LAST-MODIFIED:20260418T123225Z
UID:8397-1777680000-1777766399@pmk-kleve.de
SUMMARY:Pielgrzymka do Matki Bożej w Kevelaer
DESCRIPTION:\n\n\n\n\n\n\n\n
URL:https://pmk-kleve.de/event/pielgrzymka-do-matki-bozej-w-kevelaer
CATEGORIES:Wydarzenia na strone główną
END:VEVENT
END:VCALENDAR