BEGIN:VCALENDAR
VERSION:2.0
PRODID:-//PMK Kleve - ECPv4.7.1//NONSGML v1.0//EN
CALSCALE:GREGORIAN
METHOD:PUBLISH
X-WR-CALNAME:PMK Kleve
X-ORIGINAL-URL:https://pmk-kleve.de
X-WR-CALDESC:Veranstaltungen für PMK Kleve
BEGIN:VEVENT
DTSTART;VALUE=DATE:20190525
DTEND;VALUE=DATE:20190526
DTSTAMP:20260425T235657
CREATED:20190514T102216Z
LAST-MODIFIED:20190514T102238Z
UID:996-1558742400-1558828799@pmk-kleve.de
SUMMARY:pielgrzymka do Sanktuarium Matki Bożej Ubogich w Banneux
DESCRIPTION:25 maja odbędzie się pielgrzymka dzieci które w tym roku przystąpiły do I Komunii Świętej do Sanktuarium Matki Bożej Ubogich w Banneux. Jest to miejsce objawień Maryjnych z 1933 roku. \nAdres \n Sanktuarium: Rue de l’Esplanade 57\,  \n4141 Banneux\, Belgia. \n
URL:https://pmk-kleve.de/event/pielgrzymka-do-sanktuarium-matki-bozej-ubogich-w-banneux
CATEGORIES:Wydarzenia na strone główną
END:VEVENT
END:VCALENDAR